BEGIN:VCALENDAR
VERSION:2.0
PRODID:-//CVARA, Inc - ECPv6.15.20//NONSGML v1.0//EN
CALSCALE:GREGORIAN
METHOD:PUBLISH
X-WR-CALNAME:CVARA, Inc
X-ORIGINAL-URL:https://cvara.net
X-WR-CALDESC:Events for CVARA, Inc
REFRESH-INTERVAL;VALUE=DURATION:PT1H
X-Robots-Tag:noindex
X-PUBLISHED-TTL:PT1H
BEGIN:VTIMEZONE
TZID:America/New_York
BEGIN:DAYLIGHT
TZOFFSETFROM:-0500
TZOFFSETTO:-0400
TZNAME:EDT
DTSTART:20210314T070000
END:DAYLIGHT
BEGIN:STANDARD
TZOFFSETFROM:-0400
TZOFFSETTO:-0500
TZNAME:EST
DTSTART:20211107T060000
END:STANDARD
BEGIN:DAYLIGHT
TZOFFSETFROM:-0500
TZOFFSETTO:-0400
TZNAME:EDT
DTSTART:20220313T070000
END:DAYLIGHT
BEGIN:STANDARD
TZOFFSETFROM:-0400
TZOFFSETTO:-0500
TZNAME:EST
DTSTART:20221106T060000
END:STANDARD
BEGIN:DAYLIGHT
TZOFFSETFROM:-0500
TZOFFSETTO:-0400
TZNAME:EDT
DTSTART:20230312T070000
END:DAYLIGHT
BEGIN:STANDARD
TZOFFSETFROM:-0400
TZOFFSETTO:-0500
TZNAME:EST
DTSTART:20231105T060000
END:STANDARD
BEGIN:DAYLIGHT
TZOFFSETFROM:-0500
TZOFFSETTO:-0400
TZNAME:EDT
DTSTART:20240310T070000
END:DAYLIGHT
BEGIN:STANDARD
TZOFFSETFROM:-0400
TZOFFSETTO:-0500
TZNAME:EST
DTSTART:20241103T060000
END:STANDARD
END:VTIMEZONE
BEGIN:VTIMEZONE
TZID:UTC
BEGIN:STANDARD
TZOFFSETFROM:+0000
TZOFFSETTO:+0000
TZNAME:UTC
DTSTART:20200101T000000
END:STANDARD
END:VTIMEZONE
BEGIN:VEVENT
DTSTART;TZID=America/New_York:20231210T140000
DTEND;TZID=America/New_York:20231210T170000
DTSTAMP:20260423T183822
CREATED:20231102T144423Z
LAST-MODIFIED:20231102T144423Z
UID:10990-1702216800-1702227600@cvara.net
SUMMARY:Holiday Party
DESCRIPTION:Join us for our Holiday Party. We are gathering in the side dining room and ordering off their regular menu. Each person pays their own tab. \nShare this:\n				Share on Facebook (Opens in new window)\n				Facebook
URL:https://cvara.net/event/holiday-party/
LOCATION:Wild Owl Cafe\, 28 S Broad St\, Norwich\, NY\, 13815\, United States
CATEGORIES:CVARA Activities
END:VEVENT
BEGIN:VEVENT
DTSTART;TZID=America/New_York:20220414T190000
DTEND;TZID=America/New_York:20220414T210000
DTSTAMP:20260423T183822
CREATED:20220328T200054Z
LAST-MODIFIED:20220328T200054Z
UID:4898-1649962800-1649970000@cvara.net
SUMMARY:FREE Amateur Radio Exam Session
DESCRIPTION:Free Amateur Radio Exam Session. For a list of study materials\, check out our Study Materials Page. \nShare this:\n				Share on Facebook (Opens in new window)\n				Facebook
URL:https://cvara.net/event/free-amateur-radio-exam-session/
LOCATION:Chenango County Grange Hall\, 167 CR-32A\, Norwich\, NY\, 13815\, United States
CATEGORIES:Exam Session
END:VEVENT
BEGIN:VEVENT
DTSTART;TZID=America/New_York:20220326T080000
DTEND;TZID=America/New_York:20220326T170000
DTSTAMP:20260423T183822
CREATED:20220121T223937Z
LAST-MODIFIED:20220121T224523Z
UID:4619-1648281600-1648314000@cvara.net
SUMMARY:Bullthistle Hamfest
DESCRIPTION:Register for a table! Vendor Registration1.00\n		\n		Number of Tables12345678910 \n  \nShare this:\n				Share on Facebook (Opens in new window)\n				Facebook
URL:https://cvara.net/event/bullthistle-hamfest/
LOCATION:Church at St. Barmtholemew\, 81 E. Main St\, Norwich\, NY\, 13815\, United States
CATEGORIES:CVARA Activities
END:VEVENT
BEGIN:VEVENT
DTSTART;TZID=UTC:20211202T190000
DTEND;TZID=UTC:20211202T203000
DTSTAMP:20260423T183822
CREATED:20210611T195059Z
LAST-MODIFIED:20210611T195059Z
UID:3614-1638471600-1638477000@cvara.net
SUMMARY:CVARA Meeting 2021-12
DESCRIPTION:Regular business meeting of the CVARA. These meetings are currently being held at the Chenango County Grange Hall\, 167 CR-32A Norwich NY. \nMeeting begins at 1900 (7PM) Local time. \nThis meeting is also available via Zoom. \nShare this:\n				Share on Facebook (Opens in new window)\n				Facebook
URL:https://cvara.net/event/cvara-meeting-2021-12/
LOCATION:Chenango County Grange Hall\, 167 CR-32A\, Norwich\, NY\, 13815\, United States
CATEGORIES:Business Meeting,CVARA Activities
END:VEVENT
BEGIN:VEVENT
DTSTART;TZID=UTC:20211104T190000
DTEND;TZID=UTC:20211104T203000
DTSTAMP:20260423T183822
CREATED:20210611T195032Z
LAST-MODIFIED:20210611T195032Z
UID:3612-1636052400-1636057800@cvara.net
SUMMARY:CVARA Meeting 2021-11
DESCRIPTION:Regular business meeting of the CVARA. These meetings are currently being held at the Chenango County Grange Hall\, 167 CR-32A Norwich NY. \nMeeting begins at 1900 (7PM) Local time. \nThis meeting is also available via Zoom. \nShare this:\n				Share on Facebook (Opens in new window)\n				Facebook
URL:https://cvara.net/event/cvara-meeting-2021-11/
LOCATION:Chenango County Grange Hall\, 167 CR-32A\, Norwich\, NY\, 13815\, United States
CATEGORIES:Business Meeting,CVARA Activities
END:VEVENT
BEGIN:VEVENT
DTSTART;TZID=UTC:20211007T190000
DTEND;TZID=UTC:20211007T203000
DTSTAMP:20260423T183822
CREATED:20210611T194954Z
LAST-MODIFIED:20210611T195122Z
UID:3610-1633633200-1633638600@cvara.net
SUMMARY:CVARA Meeting 2021-10
DESCRIPTION:Regular business meeting of the CVARA. These meetings are currently being held at the Chenango County Grange Hall\, 167 CR-32A Norwich NY. \nMeeting begins at 1900 (7PM) Local time. \nThis meeting is also available via Zoom. \nShare this:\n				Share on Facebook (Opens in new window)\n				Facebook
URL:https://cvara.net/event/cvara-meeting-2021-10/
LOCATION:Chenango County Grange Hall\, 167 CR-32A\, Norwich\, NY\, 13815\, United States
CATEGORIES:Business Meeting,CVARA Activities
END:VEVENT
BEGIN:VEVENT
DTSTART;TZID=UTC:20210902T190000
DTEND;TZID=UTC:20210902T203000
DTSTAMP:20260423T183822
CREATED:20210611T194832Z
LAST-MODIFIED:20210611T195129Z
UID:3608-1630609200-1630614600@cvara.net
SUMMARY:CVARA Meeting 2021-09
DESCRIPTION:Regular business meeting of the CVARA. These meetings are currently being held at the Chenango County Grange Hall\, 167 CR-32A Norwich NY. \nMeeting begins at 1900 (7PM) Local time. \nThis meeting is also available via Zoom. \nShare this:\n				Share on Facebook (Opens in new window)\n				Facebook
URL:https://cvara.net/event/cvara-meeting-2021-09/
LOCATION:Chenango County Grange Hall\, 167 CR-32A\, Norwich\, NY\, 13815\, United States
CATEGORIES:Business Meeting,CVARA Activities
END:VEVENT
BEGIN:VEVENT
DTSTART;TZID=UTC:20210805T190000
DTEND;TZID=UTC:20210805T203000
DTSTAMP:20260423T183822
CREATED:20210611T194801Z
LAST-MODIFIED:20210611T194801Z
UID:3605-1628190000-1628195400@cvara.net
SUMMARY:CVARA Meeting 2021-08
DESCRIPTION:Regular business meeting of the CVARA. These meetings are currently being held at the Chenango County Grange Hall\, 167 CR-32A Norwich NY. \nMeeting begins at 1900 (7PM) Local time. \nThis meeting is also available via Zoom. \nShare this:\n				Share on Facebook (Opens in new window)\n				Facebook
URL:https://cvara.net/event/cvara-meeting-2021-08/
LOCATION:Chenango County Grange Hall\, 167 CR-32A\, Norwich\, NY\, 13815\, United States
CATEGORIES:Business Meeting,CVARA Activities
END:VEVENT
BEGIN:VEVENT
DTSTART;TZID=UTC:20210701T190000
DTEND;TZID=UTC:20210701T203000
DTSTAMP:20260423T183822
CREATED:20210611T193733Z
LAST-MODIFIED:20210611T194824Z
UID:3602-1625166000-1625171400@cvara.net
SUMMARY:CVARA Meeting 2021-07
DESCRIPTION:Regular business meeting of the CVARA. These meetings are currently being held at the Chenango County Grange Hall\, 167 CR-32A Norwich NY. \nMeeting begins at 1900 (7PM) Local time. \nThis meeting is also available via Zoom. \nShare this:\n				Share on Facebook (Opens in new window)\n				Facebook
URL:https://cvara.net/event/cvara-meeting-2021-07/
LOCATION:Chenango County Grange Hall\, 167 CR-32A\, Norwich\, NY\, 13815\, United States
CATEGORIES:Business Meeting,CVARA Activities
END:VEVENT
END:VCALENDAR