BEGIN:VCALENDAR
VERSION:2.0
PRODID:-//CVARA, Inc - ECPv6.15.20//NONSGML v1.0//EN
CALSCALE:GREGORIAN
METHOD:PUBLISH
X-ORIGINAL-URL:https://cvara.net
X-WR-CALDESC:Events for CVARA, Inc
REFRESH-INTERVAL;VALUE=DURATION:PT1H
X-Robots-Tag:noindex
X-PUBLISHED-TTL:PT1H
BEGIN:VTIMEZONE
TZID:UTC
BEGIN:STANDARD
TZOFFSETFROM:+0000
TZOFFSETTO:+0000
TZNAME:UTC
DTSTART:20200101T000000
END:STANDARD
END:VTIMEZONE
BEGIN:VEVENT
DTSTART;TZID=UTC:20210626T140000
DTEND;TZID=UTC:20210627T140000
DTSTAMP:20260423T184235
CREATED:20210611T200146Z
LAST-MODIFIED:20210611T200146Z
UID:3621-1624716000-1624802400@cvara.net
SUMMARY:ARRL Field Day
DESCRIPTION:Field Day is ham radio’s open house. Every June\, more than 40\,000 hams throughout North America set up temporary transmitting stations in public places to demonstrate ham radio’s science\, skill and service to our communities and our nation. It combines public service\, emergency preparedness\, community outreach\, and technical skills all in a single event. Field Day has been an annual event since 1933\, and remains the most popular event in ham radio. \nShare this:\n				Share on Facebook (Opens in new window)\n				Facebook
URL:https://cvara.net/event/arrl-field-day/
LOCATION:Roger’s Environmental Education Center\, 2715 NY80\, Sherburne\, NY\, 13460\, United States
CATEGORIES:ARRL Activities,Contests
END:VEVENT
BEGIN:VEVENT
DTSTART;TZID=UTC:20210619T140000
DTEND;TZID=UTC:20210619T200000
DTSTAMP:20260423T184235
CREATED:20210611T195840Z
LAST-MODIFIED:20210611T195840Z
UID:3618-1624111200-1624132800@cvara.net
SUMMARY:June Kids Day
DESCRIPTION:Twice a year\, ARRL offers an event designed to promote Amateur Radio to our youth. Share the excitement with your kids or grandkids\, a Scout troop\, a church or the general public! \n \nKids Day is designed to give on-the-air experience to young people and hopefully foster interest in getting a license of their own. It is also intended to give older hams a chance to share their station and love for Amateur Radio with their children. \nShare this:\n				Share on Facebook (Opens in new window)\n				Facebook
URL:https://cvara.net/event/june-kids-day/
LOCATION:NY
CATEGORIES:ARRL Activities,Contests
END:VEVENT
BEGIN:VEVENT
DTSTART;TZID=UTC:20210612T140000
DTEND;TZID=UTC:20210614T110000
DTSTAMP:20260423T184235
CREATED:20210611T195532Z
LAST-MODIFIED:20210611T195532Z
UID:3616-1623506400-1623668400@cvara.net
SUMMARY:June VHF Contest
DESCRIPTION:For amateurs in the US and Canada (and their possessions) to work as many amateur stations in as many different 2 degrees x 1 degree Maidenhead grid squares as possible using authorized frequencies above 50 MHz. Stations outside the US & Canada (and their possessions) may only work stations in the US (and its possessions) and Canada. \nShare this:\n				Share on Facebook (Opens in new window)\n				Facebook
URL:https://cvara.net/event/june-vhf-contest/
LOCATION:NY
CATEGORIES:ARRL Activities,Contests
END:VEVENT
END:VCALENDAR